BEGIN:VCALENDAR
VERSION:2.0
PRODID:-//Medikamentu Informācijas Centrs - ECPv4.6.22.1//NONSGML v1.0//EN
CALSCALE:GREGORIAN
METHOD:PUBLISH
X-WR-CALNAME:Medikamentu Informācijas Centrs
X-ORIGINAL-URL:https://farmacija-mic.lv
X-WR-CALDESC:Events for Medikamentu Informācijas Centrs
BEGIN:VEVENT
DTSTART;VALUE=DATE:20260424
DTEND;VALUE=DATE:20260426
DTSTAMP:20260425T172213
CREATED:20260309T220032Z
LAST-MODIFIED:20260311T115058Z
UID:35902-1776988800-1777161599@farmacija-mic.lv
SUMMARY:BaltPharm Forum 2026
DESCRIPTION:\nBaltijas valstu farmaceitu konference 26th BaltPharm Forum notiks 2026. gada 24.-26. aprīlī\, “LIELUPE SPA hotel & conferences” konferenču centrā Jūrmalā. \nPieteikšanās pasākumam turpinās līdz 16. martam.  \nNacionālā konference Latvijas farmācijas speciālistiem notiks latviešu valodā (24.04.)\, bet starptautiskā konference – angļu valodā (25.04.). \n\n\nŠā gada BaltPharm Forum tēma: “Strengthening Pharmacy Services Across the Baltics” (“Farmaceitisko pakalpojumu stiprināšana Baltijā”). \nLatvijas kolēģi var izvēlēties pieteikt dalību pilnai 26th BaltPharm Forum programmai\, piedalīties tikai nacionālajā dienā 24. aprīlī vai tikai starptautiskajā dienā 25. aprīlī. Tiem pasākuma dalībniekiem\, kas izvēlēsies nakšņot konferences norises viesnīcā\, brīvajos brīžos būs pieejama arī viesnīcas SPA zona. \nForuma starptautiskajā dienā dalību apstiprinājuši vairāki ārzemju viesi\, tostarp pašreizējais PGEU (The Pharmaceutical Group of the European Union) prezidents Mikołaj Konstanty. Starptautiskās dienas laikā plānotas visu Baltijas valstu pārstāvju prezentācijas par aktuālo situāciju farmaceitisko pakalpojumu jomā\, diskusijas\, paralēlās sesijas\, studentu stenda referātu konkurss un saviesīgas vakariņas. Savukārt nacionālajā dienā kopā apskatīsim pakalpojumu attīstības perspektīvas gan no valsts politikas veidotāju\, gan ārstu\, gan farmaceitu redzesloka. \nSīkāka informācija par dalību pasākumā\, pasākuma programma un informācija par izmaksām\, kā arī pieteikuma anketa pieejama oficiālajā 26th BaltPharm Forum vietnē:\nhttps://ej.uz/baltpharmforum2026 vai sazinoties ar LFB biroju: lfb@farmaceitubiedriba.lv\, tel. 67280522. \n\n
URL:https://farmacija-mic.lv/pasakums/baltpharm-forum-2026/
LOCATION:LIELUPE SPA hotel & conferences
END:VEVENT
END:VCALENDAR