BEGIN:VCALENDAR
VERSION:2.0
PRODID:-//Medikamentu Informācijas Centrs - ECPv4.6.22.1//NONSGML v1.0//EN
CALSCALE:GREGORIAN
METHOD:PUBLISH
X-WR-CALNAME:Medikamentu Informācijas Centrs
X-ORIGINAL-URL:https://farmacija-mic.lv
X-WR-CALDESC:Events for Medikamentu Informācijas Centrs
BEGIN:VEVENT
DTSTART;TZID=UTC+2:20250411T080000
DTEND;TZID=UTC+2:20250411T170000
DTSTAMP:20260420T091228
CREATED:20250121T115853Z
LAST-MODIFIED:20250121T115853Z
UID:32515-1744358400-1744390800@farmacija-mic.lv
SUMMARY:LFB konference
DESCRIPTION:
URL:https://farmacija-mic.lv/pasakums/lfb-konference-19/
LOCATION:Rīga
END:VEVENT
END:VCALENDAR