BEGIN:VCALENDAR
VERSION:2.0
PRODID:-//Medikamentu Informācijas Centrs - ECPv4.6.22.1//NONSGML v1.0//EN
CALSCALE:GREGORIAN
METHOD:PUBLISH
X-WR-CALNAME:Medikamentu Informācijas Centrs
X-ORIGINAL-URL:https://farmacija-mic.lv
X-WR-CALDESC:Events for Medikamentu Informācijas Centrs
BEGIN:VEVENT
DTSTART;TZID=UTC+2:20240510T130000
DTEND;TZID=UTC+2:20240510T150000
DTSTAMP:20260421T083136
CREATED:20240425T103204Z
LAST-MODIFIED:20240425T103204Z
UID:30290-1715346000-1715353200@farmacija-mic.lv
SUMMARY:LFB Rūpniecisko farmaceitu sekcijas Farmakovigilances darba grupa
DESCRIPTION:
URL:https://farmacija-mic.lv/pasakums/lfb-rupniecisko-farmaceitu-sekcijas-farmakovigilances-darba-grupa/
LOCATION:AS Grindeks\, Krustpils iela 53\, Rīga
ORGANIZER;CN="LFB%20R%C5%ABpniecisko%20farmaceitu%20sekcija":MAILTO:marija.briede@grindeks.com, rfs@farmaceitubiedriba.lv
END:VEVENT
END:VCALENDAR