BEGIN:VCALENDAR
VERSION:2.0
PRODID:-//Medikamentu Informācijas Centrs - ECPv4.6.22.1//NONSGML v1.0//EN
CALSCALE:GREGORIAN
METHOD:PUBLISH
X-WR-CALNAME:Medikamentu Informācijas Centrs
X-ORIGINAL-URL:https://farmacija-mic.lv
X-WR-CALDESC:Events for Medikamentu Informācijas Centrs
BEGIN:VEVENT
DTSTART;VALUE=DATE:20220512
DTEND;VALUE=DATE:20220513
DTSTAMP:20260420T151308
CREATED:20211222T100916Z
LAST-MODIFIED:20211222T100916Z
UID:24611-1652313600-1652399999@farmacija-mic.lv
SUMMARY:LFB valdes sēde
DESCRIPTION:2022. gada 12. maijā notiks kārtējā Latvijas Farmaceitu biedrības valdes sēde. \n  \nSīkāka informācija – pa tālruni: 67280522. \n
URL:https://farmacija-mic.lv/pasakums/lfb-valdes-sede-55/
END:VEVENT
END:VCALENDAR