BEGIN:VCALENDAR
VERSION:2.0
PRODID:-//Medikamentu Informācijas Centrs - ECPv4.6.22.1//NONSGML v1.0//EN
CALSCALE:GREGORIAN
METHOD:PUBLISH
X-WR-CALNAME:Medikamentu Informācijas Centrs
X-ORIGINAL-URL:https://farmacija-mic.lv
X-WR-CALDESC:Events for Medikamentu Informācijas Centrs
BEGIN:VEVENT
DTSTART;VALUE=DATE:20220915
DTEND;VALUE=DATE:20220916
DTSTAMP:20260420T164418
CREATED:20211222T101113Z
LAST-MODIFIED:20211222T101113Z
UID:24615-1663200000-1663286399@farmacija-mic.lv
SUMMARY:LFB valdes sēde
DESCRIPTION:2022. gada 15. septembrī notiks kārtējā Latvijas Farmaceitu biedrības valdes sēde. \n  \nSīkāka informācija – pa tālruni: 67280522. \n
URL:https://farmacija-mic.lv/pasakums/lfb-valdes-sede-57/
END:VEVENT
END:VCALENDAR