BEGIN:VCALENDAR
VERSION:2.0
PRODID:-//Medikamentu Informācijas Centrs - ECPv4.6.22.1//NONSGML v1.0//EN
CALSCALE:GREGORIAN
METHOD:PUBLISH
X-WR-CALNAME:Medikamentu Informācijas Centrs
X-ORIGINAL-URL:https://farmacija-mic.lv
X-WR-CALDESC:Events for Medikamentu Informācijas Centrs
BEGIN:VEVENT
DTSTART;VALUE=DATE:20220617
DTEND;VALUE=DATE:20220618
DTSTAMP:20260420T151310
CREATED:20220531T142831Z
LAST-MODIFIED:20220531T142831Z
UID:25830-1655424000-1655510399@farmacija-mic.lv
SUMMARY:LFB vasaras plenērs
DESCRIPTION:2022. gada 17. jūnijā notiks Latvijas Farmaceitu biedrības vasaras plenērs\, kurā plānotas gan izglītojošas aktivitātes\, gan kopīga atpūta kolēģu lokā. \nPasākuma norises vieta – z/s “Valmoniras”. \n
URL:https://farmacija-mic.lv/pasakums/lfb-vasaras-pleners-3/
LOCATION:z/s “Valmoniras”
END:VEVENT
END:VCALENDAR