BEGIN:VCALENDAR
VERSION:2.0
PRODID:-//Medikamentu Informācijas Centrs - ECPv4.6.22.1//NONSGML v1.0//EN
CALSCALE:GREGORIAN
METHOD:PUBLISH
X-WR-CALNAME:Medikamentu Informācijas Centrs
X-ORIGINAL-URL:https://farmacija-mic.lv
X-WR-CALDESC:Events for Medikamentu Informācijas Centrs
BEGIN:VEVENT
DTSTART;TZID=UTC+2:20240614T130000
DTEND;TZID=UTC+2:20240614T170000
DTSTAMP:20260420T104125
CREATED:20240425T105051Z
LAST-MODIFIED:20240425T105051Z
UID:30295-1718370000-1718384400@farmacija-mic.lv
SUMMARY:Rūpniecisko farmaceitu sekcijas farmakovigilances  darba grupa
DESCRIPTION:
URL:https://farmacija-mic.lv/pasakums/rupniecisko-farmaceitu-sekcijas-farmakovigilances-darba-grupa/
LOCATION:MS Teams
END:VEVENT
END:VCALENDAR